BEGIN:VCALENDAR
VERSION:2.0
PRODID:-//HessenHub - Netzwerk digitale Hochschullehre Hessen - ECPv5.16.4//NONSGML v1.0//EN
CALSCALE:GREGORIAN
METHOD:PUBLISH
X-ORIGINAL-URL:https://www.hessenhub.de
X-WR-CALDESC:Events for HessenHub - Netzwerk digitale Hochschullehre Hessen
REFRESH-INTERVAL;VALUE=DURATION:PT1H
X-Robots-Tag:noindex
X-PUBLISHED-TTL:PT1H
BEGIN:VTIMEZONE
TZID:Europe/Berlin
BEGIN:DAYLIGHT
TZOFFSETFROM:+0100
TZOFFSETTO:+0200
TZNAME:CEST
DTSTART:20230326T010000
END:DAYLIGHT
BEGIN:STANDARD
TZOFFSETFROM:+0200
TZOFFSETTO:+0100
TZNAME:CET
DTSTART:20231029T010000
END:STANDARD
END:VTIMEZONE
BEGIN:VEVENT
DTSTART;TZID=Europe/Berlin:20230525T130000
DTEND;TZID=Europe/Berlin:20230525T140000
DTSTAMP:20260423T081943
CREATED:20230523T153733Z
LAST-MODIFIED:20230523T153733Z
UID:15454-1685019600-1685023200@www.hessenhub.de
SUMMARY:PLUS-Mittagsimpuls: Intelligentes\, personalisiertes Feedback für Studierende durch künstliche Intelligenz
DESCRIPTION:Referent*innen\n\nTimon Pellekoorne\, Jonas Wölfer \n\nZielgruppe\n\nLehrende \n\nInhalt\n\nDas „feedback returning intelligent tutoring system“ (frits) am Fachbereich MNI unter der Federführung von Prof. Dr. Kammer und Prof. Dr. Siepermann ist ein innovatives System\, das entwickelt wurde\, um Studierende und Lehrende im Lern- und Lehrprozess zu unterstützen. Eines seiner Hauptmerkmale ist die Fähigkeit\, individualisiertes Feedback für Studierende zu generieren\, was ein wertvolles Instrument zur Verbesserung der Lernergebnisse sein kann. Dieses personalisierte Feedback kann den Studierenden helfen\, ihre Stärken und Schwächen zu erkennen und sie auf Bereiche hinweisen\, in denen sie sich verbessern sollten. Lehrende können anhand der Ergebbnisse ihre Vorlesungen und Übungen dem Lernprozess der Studierenden anpassen.Eine weitere wichtige Funktion des Feedbacksystems ist die Unterstützung von Lehrenden durch die automatische Korrektur von Aufgaben. Dies spart viel Zeit und Mühe und gibt den Studierenden ein schnelles und genaues Feedback zu ihrer Arbeit. Besonders in Modulen mit einer hohen Anzahl von Studierenden kann durch das Feedbacksystem ein individueller Lernfortschritt gefördert werden.Das System ist so konzipiert\, dass es eine Reihe von Aufgaben unterstützt\, darunter zu SQL oder Excel\, Bash-Skripten und mathematische Aufgaben. Dies macht es zu einem vielseitigen und flexiblen Werkzeug für Lehrende und Studierende gleichermaßen und ermöglicht es\, innerhalb einer einzigen Plattform an einer Vielzahl von Aufgaben zu arbeiten. Mit den Fähigkeiten\, individuelles Feedback zu generieren\, die Korrektur von Aufgaben zu automatisieren und eine Reihe von Aufgaben zu unterstützen\, ist das Feedbacksystem ein wertvolles Werkzeug für alle\, die am Lehr- und Lernprozess beteiligt sind.In diesem Mittagsimpuls werden das Feedbacksystem und einige Anwendungsbeispiele vorgestellt.
URL:https://www.hessenhub.de/veranstaltung/plus-mittagsimpuls-intelligentes-personalisiertes-feedback-fuer-studierende-durch-kuenstliche-intelligenz/
CATEGORIES:Workshopbörse
END:VEVENT
END:VCALENDAR