BEGIN:VCALENDAR
VERSION:2.0
PRODID:-//HessenHub - Netzwerk digitale Hochschullehre Hessen - ECPv5.16.4//NONSGML v1.0//EN
CALSCALE:GREGORIAN
METHOD:PUBLISH
X-WR-CALNAME:HessenHub - Netzwerk digitale Hochschullehre Hessen
X-ORIGINAL-URL:https://www.hessenhub.de
X-WR-CALDESC:Events for HessenHub - Netzwerk digitale Hochschullehre Hessen
REFRESH-INTERVAL;VALUE=DURATION:PT1H
X-Robots-Tag:noindex
X-PUBLISHED-TTL:PT1H
BEGIN:VTIMEZONE
TZID:Europe/Berlin
BEGIN:DAYLIGHT
TZOFFSETFROM:+0100
TZOFFSETTO:+0200
TZNAME:CEST
DTSTART:20230326T010000
END:DAYLIGHT
BEGIN:STANDARD
TZOFFSETFROM:+0200
TZOFFSETTO:+0100
TZNAME:CET
DTSTART:20231029T010000
END:STANDARD
END:VTIMEZONE
BEGIN:VEVENT
DTSTART;TZID=Europe/Berlin:20230301T100000
DTEND;TZID=Europe/Berlin:20230301T120000
DTSTAMP:20260423T105459
CREATED:20221209T144827Z
LAST-MODIFIED:20221209T144828Z
UID:12807-1677664800-1677672000@www.hessenhub.de
SUMMARY:Forschungsdaten suchen\, finden und nutzen
DESCRIPTION:Referent*innen\n\nAndre Pietsch \n\nZielgruppe\n\nLehrende \n\nInhalt\n\nEines der wichtigsten Ziele der Open Access-Veröffentlichung von Forschungsdaten ist es\, dass diese Daten so aufbereitet sind\, dass sie von anderen Forschenden möglichst einfach nachgenutzt werden können. Tatsächlich ist es sowohl im Bereich der Wirtschaft als auch im Bereich der Forschung allerdings immer noch so\, dass viel mehr Daten neu erzeugt\, als nachgenutzt werden. Häufig liegt dies auch an fehlendem Wissen\, wie und wo man nach diesen Daten suchen soll. Aufgezeigt werden sollen Ihnen in diesem Vortrag deshalb einerseits Möglichkeiten zum Suchen und Finden von vorhandenen Forschungsdaten und andererseits Regeln\, die Sie bei der Nachnutzung von Forschungsdaten beachten sollten.
URL:https://www.hessenhub.de/veranstaltung/forschungsdaten-suchen-finden-und-nutzen/
CATEGORIES:Workshopbörse
END:VEVENT
BEGIN:VEVENT
DTSTART;TZID=Europe/Berlin:20230329T100000
DTEND;TZID=Europe/Berlin:20230329T120000
DTSTAMP:20260423T105459
CREATED:20221209T144600Z
LAST-MODIFIED:20221209T144600Z
UID:12805-1680084000-1680091200@www.hessenhub.de
SUMMARY:Qualitative Daten Managen
DESCRIPTION:Referent*innen\n\nJan-Ocko Heuer \n\nZielgruppe\n\nLehrende- und Studierende \n\nInhalt\n\nIn vielen sozial- und geisteswissenschaftlichen Disziplinen spielen qualitative Forschungsdaten – wie zum Beispiel Interviewtranskripte\, Beobachtungsprotokolle\, Feldtagebücher\, Dokumente oder Audio- bzw. Videoaufnahmen – eine wichtige Rolle. Aus der Offenheit qualitativer Forschung und der geringen Standardisierung der Forschungsmaterialien resultieren auch spezifische Anforderungen an das Forschungsdatenmanagement. Dieses Fokusmodul bietet praxisrelevante Empfehlungen für den Umgang mit qualitativen Forschungsdaten. Neben einem Überblick werden drei Themen vertieft behandelt\, die oft viele Fragen aufwerfen: Umsetzung der Informierten Einwilligung\, Anonymisierung\, und Dokumentation/Kontexte.
URL:https://www.hessenhub.de/veranstaltung/qualitative-daten-managen/
CATEGORIES:Workshopbörse
END:VEVENT
END:VCALENDAR