BEGIN:VCALENDAR
VERSION:2.0
PRODID:-//HessenHub - Netzwerk digitale Hochschullehre Hessen - ECPv5.16.4//NONSGML v1.0//EN
CALSCALE:GREGORIAN
METHOD:PUBLISH
X-WR-CALNAME:HessenHub - Netzwerk digitale Hochschullehre Hessen
X-ORIGINAL-URL:https://www.hessenhub.de
X-WR-CALDESC:Events for HessenHub - Netzwerk digitale Hochschullehre Hessen
REFRESH-INTERVAL;VALUE=DURATION:PT1H
X-Robots-Tag:noindex
X-PUBLISHED-TTL:PT1H
BEGIN:VTIMEZONE
TZID:Europe/Berlin
BEGIN:DAYLIGHT
TZOFFSETFROM:+0100
TZOFFSETTO:+0200
TZNAME:CEST
DTSTART:20240331T010000
END:DAYLIGHT
BEGIN:STANDARD
TZOFFSETFROM:+0200
TZOFFSETTO:+0100
TZNAME:CET
DTSTART:20241027T010000
END:STANDARD
END:VTIMEZONE
BEGIN:VEVENT
DTSTART;TZID=Europe/Berlin:20240626T000000
DTEND;TZID=Europe/Berlin:20240724T235959
DTSTAMP:20260422T001931
CREATED:20240321T104519Z
LAST-MODIFIED:20240321T104519Z
UID:19812-1719360000-1721865599@www.hessenhub.de
SUMMARY:WM39 Einsatzmöglichkeiten von KI-Tools in der Lehre
DESCRIPTION:Referent*innen\n\nMichael Eichhorn\, Julia Schmitt (studiumdigitale) \n\nZielgruppe\n\nLehrende \n\nInhalt\n\nSeit Ende 2022 ist die KI-Anwendung “ChatGPT” Gegenstand vieler Diskussionen und Schlagzeilen\, auch im Zusammenhang mit der Lehre an Hochschulen. Neben ChatGPT gibt es eine Vielzahl weiterer KI-Tools\, mit denen sich Lehre und Unterricht bereichern lassen. In diesem Workshop wollen wir uns einige dieser Tools näher ansehen\, deren didaktische Möglichkeiten ausloten und auch die ethischen Auswirkungen eines Einsatzes in der Lehre diskutieren. \n\nDer Workshop besteht aus zwei Online-Phasen\, welche jeweils mit einem Webinar verknüpft sind. Im ersten Teil des Workshops werden wir verschiedene KI-Tools testen\, deren Möglichkeiten diskutieren und in Steckbriefen dokumentieren. Im zweiten Teil erarbeiten wir für die getesteten Tools exemplarische Einsatzszenarien für unterschiedliche Fachdisziplinen. \n\nZielgruppe: Am Einsatz digitaler Medien in der Lehre interessierte Hochschullehrende\, wissenschaftliche MitarbeiterInnen\, DozentInnen und LehrerInnen. \n\nVoraussetzungen:Aktive Teilnahme an den asynchronen (Moodle) und synchronen (Zoom) Online-Phasen. Technische Ausstattung für Teilnahme an den synchronen Zoom-Sitzungen (Mikrofon & Kamera) Der Zeitaufwand für die Online-Aufgabe beträgt ca. 3-4 Stunden. \n\nTermine\n\n26.06. – 09.07. (asynchron Moodle)\n\n10.07.: 14 – 16 Uhr (synchron Online-Präsenz)\n\n11.07. – 23.07. (asynchron Moodle)\n\n24.07.: 14 – 16 Uhr (synchron Online-Präsenz)\n\nBesonderheiten\n\nBlended-Learning-Format \n\nKosten\n\nAngehörige der Goethe-Universität: 15 Euro\n\nAngehörige öffentlicher hessischer Bildungseinrichtungen: 95 Euro\n\nExterne Teilnehmende: 205 Euro
URL:https://www.hessenhub.de/veranstaltung/wm39-einsatzmoeglichkeiten-von-ki-tools-in-der-lehre/
CATEGORIES:Workshopbörse
END:VEVENT
BEGIN:VEVENT
DTSTART;TZID=Europe/Berlin:20240723T000000
DTEND;TZID=Europe/Berlin:20240807T235959
DTSTAMP:20260422T001931
CREATED:20240321T102829Z
LAST-MODIFIED:20240321T102829Z
UID:19820-1721692800-1723075199@www.hessenhub.de
SUMMARY:WM41 Videos für die Lehre planen und produzieren
DESCRIPTION:Referent*innen\n\nStephan Zerlik (studiumdigitale) \n\nZielgruppe\n\nLehrende \n\nInhalt\n\nIm Videoworkshop lernen Sie wie Sie mit einfachen Mitteln Videos planen und produzieren bzw. welche Tools und welche Technik(en) sie dafür nutzen können. Steht Ihnen eigene Videoausrüstung\, wie Kameras\, Mikrofone oder Schnittlaptops zur Verfügung\, bringen Sie diese gerne mit\, wir gehen gezielt darauf ein. \n\nSie erstellen in Onlinephasen eigenständig ein Video das am Ende allen Teilnehmern präsentiert werden soll. \n\nWährend dieser Phase bieten wir online eine Sprechstunde für akute Fragen und Hilfestellungen an. \n\nZielgruppe: Hochschullehrende\, Dozent*innen\, Lehrer*innen. \n\nTermine\n\n23.7.: 10-17 Uhr (synchron Präsenz) – Ort: Campus Westend\n\n24.07. – 30.07. (asynchron Moodle)\n\n31.7.: 10-12 Uhr (synchron Online-Präsenz)\n\n01.08. – 06.08. (asynchron Moodle)\n\n07.08.: 10-12 Uhr (synchron Online-Präsenz)\n\nBesonderheiten\n\nBlended-Learning-Format \n\nKosten\n\nAngehörige der Goethe-Universität: 15 Euro\n\nAngehörige öffentlicher hessischer Bildungseinrichtungen: 95 Euro\n\nExterne Teilnehmende: 205 Euro
URL:https://www.hessenhub.de/veranstaltung/wm41-videos-fuer-die-lehre-planen-und-produzieren/
CATEGORIES:Workshopbörse
END:VEVENT
END:VCALENDAR