BEGIN:VCALENDAR
VERSION:2.0
PRODID:-//HessenHub - Netzwerk digitale Hochschullehre Hessen - ECPv5.16.4//NONSGML v1.0//EN
CALSCALE:GREGORIAN
METHOD:PUBLISH
X-WR-CALNAME:HessenHub - Netzwerk digitale Hochschullehre Hessen
X-ORIGINAL-URL:https://www.hessenhub.de
X-WR-CALDESC:Events for HessenHub - Netzwerk digitale Hochschullehre Hessen
REFRESH-INTERVAL;VALUE=DURATION:PT1H
X-Robots-Tag:noindex
X-PUBLISHED-TTL:PT1H
BEGIN:VTIMEZONE
TZID:Europe/Berlin
BEGIN:DAYLIGHT
TZOFFSETFROM:+0100
TZOFFSETTO:+0200
TZNAME:CEST
DTSTART:20240331T010000
END:DAYLIGHT
BEGIN:STANDARD
TZOFFSETFROM:+0200
TZOFFSETTO:+0100
TZNAME:CET
DTSTART:20241027T010000
END:STANDARD
END:VTIMEZONE
BEGIN:VEVENT
DTSTART;TZID=Europe/Berlin:20240220T090000
DTEND;TZID=Europe/Berlin:20240223T130000
DTSTAMP:20260422T105645
CREATED:20240205T113514Z
LAST-MODIFIED:20240205T113515Z
UID:19116-1708419600-1708693200@www.hessenhub.de
SUMMARY:How to teach discipline-specific courses in English at a German-speaking institution
DESCRIPTION:Referent*innen\n\nDr. Ina Alexandra Machura\, Goethe-Universität Frankfurt/Main \n\nZielgruppe\n\nLehrende \n\nInhalt\n\nCurrently\, the DAAD lists over 2\,000 degree programs with English as the main language of instruction at universities in Germany. However\, only a fraction of German universities offer systematic training or support for teaching faculty to navigate English-medium instruction (EMI). Accordingly\, this workshop provides an overview of strategies\, resources\, and AI tools for faculty in higher education teaching discipline-specific courses in English. In the workshop\, an EMI toolbox will be applied to various situations\, such as course sessions\, presentations\, oral and written feedback\, exams and assessments\, as well as office hours and mentoring. \n\nThis workshop is offered for teaching faculty from all disciplines\, with little to no experience in teaching in English. Teaching experience is required. Proficiency in English at the C1 (CEFR) level is required. The workshop languages will be English and German\, as needed. \n\nObjectives: \n\nWorkshop participants will \n\nmap their own English language proficiency for teaching in their specific discipline(s)\,\n\ntransfer elements of their teaching materials into English\,\n\nselect scaffolds\, templates\, and assessment criteria for teaching in English and\n\navoid common pitfalls in teaching in English.\n\nFoci: \n\nStrategies\, resources\, and AI tools that support EMI teaching\n\nAligning EMI teaching practice with research and administrative workload\n\nAccommodating different levels of English language proficiency among faculty and students
URL:https://www.hessenhub.de/veranstaltung/how-to-teach-discipline-specific-courses-in-english-at-a-german-speaking-institution/
CATEGORIES:Workshopbörse
END:VEVENT
END:VCALENDAR