BEGIN:VCALENDAR
VERSION:2.0
PRODID:-//HessenHub - Netzwerk digitale Hochschullehre Hessen - ECPv5.16.4//NONSGML v1.0//EN
CALSCALE:GREGORIAN
METHOD:PUBLISH
X-WR-CALNAME:HessenHub - Netzwerk digitale Hochschullehre Hessen
X-ORIGINAL-URL:https://www.hessenhub.de
X-WR-CALDESC:Events for HessenHub - Netzwerk digitale Hochschullehre Hessen
REFRESH-INTERVAL;VALUE=DURATION:PT1H
X-Robots-Tag:noindex
X-PUBLISHED-TTL:PT1H
BEGIN:VTIMEZONE
TZID:Europe/Berlin
BEGIN:DAYLIGHT
TZOFFSETFROM:+0100
TZOFFSETTO:+0200
TZNAME:CEST
DTSTART:20230326T010000
END:DAYLIGHT
BEGIN:STANDARD
TZOFFSETFROM:+0200
TZOFFSETTO:+0100
TZNAME:CET
DTSTART:20231029T010000
END:STANDARD
BEGIN:DAYLIGHT
TZOFFSETFROM:+0100
TZOFFSETTO:+0200
TZNAME:CEST
DTSTART:20240331T010000
END:DAYLIGHT
BEGIN:STANDARD
TZOFFSETFROM:+0200
TZOFFSETTO:+0100
TZNAME:CET
DTSTART:20241027T010000
END:STANDARD
END:VTIMEZONE
BEGIN:VEVENT
DTSTART;TZID=Europe/Berlin:20231220T090000
DTEND;TZID=Europe/Berlin:20240207T160000
DTSTAMP:20260422T181723
CREATED:20231107T145335Z
LAST-MODIFIED:20231107T151111Z
UID:18437-1703062800-1707321600@www.hessenhub.de
SUMMARY:Evaluation und Wirkungsanalyse in der digitalen Lehre
DESCRIPTION:Referent*innen\n\nMichael Eichhorn\, Julia Schmitt \n\nZielgruppe\n\nLehrende \n\nInhalt\n\nUm einzuschätzen\, inwieweit die angestrebten Ziele einer Lehrveranstaltung erreicht werden\, ist es hilfreich\, Evaluationen und Wirkungsanalysen durchzuführen. Dies gilt insbesondere auch\, wenn es darum geht\, die Auswirkung neuer Lehr-Lern-Formen und digitaler Medien auf Lernerfolg oder Motivation der Studierenden zu ermitteln. Durch die Einschätzung der Lernerfolge\, Wahrnehmung der Teilnehmer*innen und andere Indikatoren können Aussagen über die Wirkung innovativer (digitaler) pädagogischer Maßnahmen getroffen werden. Im Workshop erfahren Sie\, wie Sie eine Wirkungsanalyse für ihre (digitale) Lehrveranstaltung mit Hilfe des Phineo Staircase Modells planen. Sie legen Evaluationsziele für Ihre Veranstaltung fest\, recherchieren geeignete Indikatoren und Skalen zur Überprüfung der Ziele und erstellen ein Evaluationskonzept oder ein Studiendesign für die Wirkungsanalyse. \n\nTermine: \n\n20.12. – 23.01.2024 (asynchron Moodle) \n\n24.01.2024 14:00 – 16:00 Uhr (synchron Online-Präsenz) \n\n25.01 – 06.02.2024 (asynchron Moodle) \n\n07.02.2024 14:00 – 16:00 Uhr (synchron Online-Präsenz) \n\nOrt: Moodle & Zoom \n\nKosten\n\nI: 15 / H: 95 Euro / E: 205 Euro (I = Angehörige der Goethe-Universität\, H = Angehörige öffentlicher hessischer Bildungseinrichtungen)\, E = externe Teilnehmende)
URL:https://www.hessenhub.de/veranstaltung/evaluation-und-wirkungsanalyse-in-der-digitalen-lehre/
CATEGORIES:Workshopbörse
END:VEVENT
BEGIN:VEVENT
DTSTART;TZID=Europe/Berlin:20240124T090000
DTEND;TZID=Europe/Berlin:20240124T130000
DTSTAMP:20260422T181723
CREATED:20231113T081342Z
LAST-MODIFIED:20231113T081343Z
UID:18486-1706086800-1706101200@www.hessenhub.de
SUMMARY:International Teaching - First Steps (Online)
DESCRIPTION:Referent*innen\n\nSamuel Gross\, Nicola Maier\, Juliane Sommer\, Anna Jäger \n\nZielgruppe\n\nLehrende \n\nInhalt\n\nInternational teaching is gaining momentum on a global scale in higher education. Given the increasing presence of a multicultural international community in universities around the world\, global and local interconnections among teachers are significant. Although international teaching brings substantial advantages\, it also entails new challenges in didactic processes\, approaches\, concepts\, and interactions as well as in the design of a curriculum that addresses different global perspectives and methodologies. \n\nConsidering that the umbrella term of international teaching varies depending on the geographical location\, the institution\, the disciplinary field\, and teachers’ views\, the Goethe University Frankfurt\, Frankfurt University of Applied Sciences\, and Justus-Liebig-University Gießen want to offer you a digital space to discuss and exchange ideas on topics related to international teaching. Accordingly\, in the framework of a cooperation between the three aforementioned universities\, we are pleased to invite you to the online workshop: “International Teaching – First Steps”. This workshop seeks to provide an online venue for sharing ideas about international teaching in complex and evolving multicultural and digital environments. Goals & activities. \n\nAs we are aware that international teaching is no longer perceived as a goal per se\, but rather as an important tool\, the aim of this workshop is threefold: \n\nit seeks to stimulate and broaden the discussion for international cooperative (and digital?) teaching by engaging participants in a critical dialogue to explore diverse perspectives\, concerning approaches\, methodologies\, and/or concepts.\n\nit aims to provide a stage for exchange and discussion on current topics\, experiences\, and challenges on international teaching in local and global contexts.\n\nit addresses meaningful information regarding the systematic design and planning of international collaborative teaching formats that permit to build academic relationships across socio-cultural and geographical boundaries.\n\nContent to achieve the aforementioned objectives\, the workshop addresses the following topics:\n\nSpecific aspects to consider in designing and preparing international teaching (e.g. with regard to Constructive Alignment\, but also regarding basic principles of teaching)\n\nGood practice examples of international teaching\n\nTeam teaching: Characteristics and challenges\n\nChecklist for planning and organizing international teaching\n\nThe workshop itself is a bridge between exchange and discussion with practical applications. Consequently\, participants are welcome to share insights in order to develop their own concepts and approaches through dialogues and reflections on practice with others. This will be done in different individual and group working phases and break out rooms. \n\nKosten\n\n20\,00 €
URL:https://www.hessenhub.de/veranstaltung/international-teaching-first-steps-online/
CATEGORIES:Workshopbörse
END:VEVENT
BEGIN:VEVENT
DTSTART;TZID=Europe/Berlin:20240124T090000
DTEND;TZID=Europe/Berlin:20240124T120000
DTSTAMP:20260422T181723
CREATED:20240108T114536Z
LAST-MODIFIED:20240108T114536Z
UID:18843-1706086800-1706097600@www.hessenhub.de
SUMMARY:Bildung für nachhaltige Entwicklung und Digitalisierung gemeinsam gedacht
DESCRIPTION:Referent*innen\n\nAnja Höfner & Sulca Ariza (Konzeptwerk Neue Ökonomie e.V.) \n\nZielgruppe\n\nLehrende \n\nInhalt\n\nIm Rahmen des Seminars wollen wir die Idee und das Konzept Bildung für nachhaltige Entwicklung (BNE) mit ihren verschiedenen Elementen und dem zugehörigen Transformationsverständnis kennenlernen\, sowie uns mit Digitalisierung als gesellschaftspolitischen Prozess auseinandersetzen und einen Überblick über deren soziale und ökologische Auswirkungen bekommen. Zentral geht es um die Frage\, wie BNE genutzt werden kann\, um Menschen zu ermutigen\, sich aktiv in die Gestaltung digitaler Technik einzubringen. Ebenso wollen wir ergründen\, wie transformative Bildung im digitalen Raum gelingen kann. \n\nTermine\n\n24.01. – 06.02. (asynchron Moodle)07.02.: 10 – 12 Uhr (synchron Online-Präsenz)08.02 – 20.02.(asynchron Moodle)21.02: 10 – 12 Uhr (synchron Online-Präsenz) \n\nOrt: Moodle & Zoom \n\nKosten\n\nI: 15 / H: 95 / E: 205 Euro (I = Angehörige der Goethe-Universität\, H = Angehörige öffentlicher hessischer Bildungseinrichtungen)\, E = externe Teilnehmende)
URL:https://www.hessenhub.de/veranstaltung/bildung-fuer-nachhaltige-entwicklung-und-digitalisierung-gemeinsam-gedacht/
CATEGORIES:Workshopbörse
END:VEVENT
END:VCALENDAR