BEGIN:VCALENDAR
VERSION:2.0
PRODID:-//HessenHub - Netzwerk digitale Hochschullehre Hessen - ECPv5.16.4//NONSGML v1.0//EN
CALSCALE:GREGORIAN
METHOD:PUBLISH
X-ORIGINAL-URL:https://www.hessenhub.de
X-WR-CALDESC:Events for HessenHub - Netzwerk digitale Hochschullehre Hessen
REFRESH-INTERVAL;VALUE=DURATION:PT1H
X-Robots-Tag:noindex
X-PUBLISHED-TTL:PT1H
BEGIN:VTIMEZONE
TZID:Europe/Berlin
BEGIN:DAYLIGHT
TZOFFSETFROM:+0100
TZOFFSETTO:+0200
TZNAME:CEST
DTSTART:20230326T010000
END:DAYLIGHT
BEGIN:STANDARD
TZOFFSETFROM:+0200
TZOFFSETTO:+0100
TZNAME:CET
DTSTART:20231029T010000
END:STANDARD
END:VTIMEZONE
BEGIN:VEVENT
DTSTART;TZID=Europe/Berlin:20231113T090000
DTEND;TZID=Europe/Berlin:20231211T160000
DTSTAMP:20260423T014127
CREATED:20231107T145335Z
LAST-MODIFIED:20231107T151232Z
UID:18424-1699866000-1702310400@www.hessenhub.de
SUMMARY:Lehren und Lernen in 360°
DESCRIPTION:Referent*innen\n\nDr. Ulrike Mascher\, David Fernes \n\nZielgruppe\n\nLehrende \n\nInhalt\n\nEin Labor\, eine (Kunst-)Ausstellung oder ein (entlegener) Exkursionsort – 360°-Umgebungen ermöglichen einen zeit- und ortsunabhängigen Zugang\, exploratives Lernen und einen hohen Interaktivitätsgrad in ganz unterschiedlichen Wissensräumen. \n\nBei 360°-Anwendungen handelt es sich um panoramatische\, fotorealistische computergenerierte Umgebungen. In den letzten Jahren sind 360°-Kameras zunehmend erschwinglich geworden\, zudem sind die technischen Anforderungen\, was die Nutzung der Hard- und Software zur Erstellung virtueller 360°-Umgebungen angeht\, in Relation zur Entwicklung von Virtual Reality Umgebungen vergleichsweise niedrig. Zusätzlich bieten 360°-Umgebungen die Möglichkeit\, multimediale Inhalte mittels sog. Hotspots einzubinden und räumlich zu verknüpfen. Zahlreiche Studien zeigen positive Effekte von 360°-Anwendungen auf die Motivation und das Interesse von Lernenden. \n\nWir wollen eine Einführung in das Lehren und Lernen mit 360°-Umgebungen geben und gemeinsam innovative Einsatzszenarien erarbeiten. \n\n13.11. – 26.11.2023 (asynchron Moodle) \n\n27.11.2023 von 14:00 – 16:00 Uhr (synchron Online-Präsenz) \n\n28.11. – 10.12.2023 (asynchron Moodle) \n\n11.12.2023 von 14:00 – 16:00 Uhr (synchron Online-Präsenz) \n\nOrt: Moodle & Zoom \n\nKosten\n\nI: 15 / H: 95 Euro / E: 205 Euro (I = Angehörige der Goethe-Universität\, H = Angehörige öffentlicher hessischer Bildungseinrichtungen)\, E = externe Teilnehmende)
URL:https://www.hessenhub.de/veranstaltung/lehren-und-lernen-in-360/
CATEGORIES:Workshopbörse
END:VEVENT
END:VCALENDAR