BEGIN:VCALENDAR
VERSION:2.0
PRODID:-//HessenHub - Netzwerk digitale Hochschullehre Hessen - ECPv5.16.4//NONSGML v1.0//EN
CALSCALE:GREGORIAN
METHOD:PUBLISH
X-WR-CALNAME:HessenHub - Netzwerk digitale Hochschullehre Hessen
X-ORIGINAL-URL:https://www.hessenhub.de
X-WR-CALDESC:Events for HessenHub - Netzwerk digitale Hochschullehre Hessen
REFRESH-INTERVAL;VALUE=DURATION:PT1H
X-Robots-Tag:noindex
X-PUBLISHED-TTL:PT1H
BEGIN:VTIMEZONE
TZID:Europe/Berlin
BEGIN:DAYLIGHT
TZOFFSETFROM:+0100
TZOFFSETTO:+0200
TZNAME:CEST
DTSTART:20230326T010000
END:DAYLIGHT
BEGIN:STANDARD
TZOFFSETFROM:+0200
TZOFFSETTO:+0100
TZNAME:CET
DTSTART:20231029T010000
END:STANDARD
END:VTIMEZONE
BEGIN:VEVENT
DTSTART;TZID=Europe/Berlin:20231102T130000
DTEND;TZID=Europe/Berlin:20231102T140000
DTSTAMP:20260423T013840
CREATED:20231027T081146Z
LAST-MODIFIED:20231027T081412Z
UID:18307-1698930000-1698933600@www.hessenhub.de
SUMMARY:PLUS Mittagsimpuls: Grüne Lehre im Flipped Classroom - Nachhaltigkeit in 10 Minuten!
DESCRIPTION:Referent*innen\n\nKristina Zimmermann \n\nZielgruppe\n\nLehrende \n\nInhalt\n\nIn diesem Mittagsimpuls erhalten Sie einen Einblick in ein Lehrprojekt\, das am Fachbereich BAU der THM im Rahmen eines Lehr-Innovations-Fonds (LIF) gefördert wurde. \n\nDas Ziel des Projekts war\, Nachhaltigkeitsthemen in die Lehrveranstaltung „Stahlbau 1“ zu integrieren. So wurden auf Basis des Inverted Classroom-Konzepts Nachhaltigkeitsthemen aus dem Fachgebiet innerhalb von zehn Minuten zu Beginn jeder Vorlesungseinheit behandelt. Für das Selbststudium wurden Lernvideos erstellt\, so dass in der Präsenzphase verschiedene didaktische Methoden zum Einsatz kamen\, die die Studierenden aktiv mit eingebunden und motiviert haben. Dadurch konnte ein Fokus auf die Förderung von fachlichen und überfachlichen Kompetenzen gelegt werden\, die im Zusammenhang mit Fragen zur Nachhaltigen Entwicklung relevant sind. Im Rahmen des Projekts fanden diese Aspekte Eingang in die Klausurgestaltung und wurden auch im Modulhandbuch verankert. \n\nAuf Basis des vorgestellten Projekts werden die Ergebnisse mit Ihnen diskutiert und die Vor- und Nachteile der Methoden besprochen. Welche Übertragungsmöglichkeiten auf andere Lehr-Lern-Kontexte möglich sind und welche didaktische Methode am besten in Ihren persönlichen Lehrkontext passt\, wird ebenfalls betrachtet. \n\nBesonderheiten\n\nOnline über Zoom
URL:https://www.hessenhub.de/veranstaltung/plus-mittagsimpuls-gruene-lehre-im-flipped-classroom-nachhaltigkeit-in-10-minuten/
CATEGORIES:Workshopbörse
END:VEVENT
END:VCALENDAR