BEGIN:VCALENDAR
VERSION:2.0
PRODID:-//HessenHub - Netzwerk digitale Hochschullehre Hessen - ECPv5.16.4//NONSGML v1.0//EN
CALSCALE:GREGORIAN
METHOD:PUBLISH
X-ORIGINAL-URL:https://www.hessenhub.de
X-WR-CALDESC:Events for HessenHub - Netzwerk digitale Hochschullehre Hessen
REFRESH-INTERVAL;VALUE=DURATION:PT1H
X-Robots-Tag:noindex
X-PUBLISHED-TTL:PT1H
BEGIN:VTIMEZONE
TZID:Europe/Berlin
BEGIN:DAYLIGHT
TZOFFSETFROM:+0100
TZOFFSETTO:+0200
TZNAME:CEST
DTSTART:20230326T010000
END:DAYLIGHT
BEGIN:STANDARD
TZOFFSETFROM:+0200
TZOFFSETTO:+0100
TZNAME:CET
DTSTART:20231029T010000
END:STANDARD
END:VTIMEZONE
BEGIN:VEVENT
DTSTART;TZID=Europe/Berlin:20230417T130000
DTEND;TZID=Europe/Berlin:20230420T160000
DTSTAMP:20260423T104536
CREATED:20230321T145850Z
LAST-MODIFIED:20230321T150124Z
UID:14179-1681736400-1682006400@www.hessenhub.de
SUMMARY:Methoden und digitale Tools für diversitätsgerechtes Lehren
DESCRIPTION:Referent*innen\n\nSophia Hercher \n\nZielgruppe\n\nLehrende \n\nInhalt\n\nIhre Lerngruppe setzt sich aus vielfältigen Lernenden zusammen? Ihre Studierenden haben sehr unterschiedliche Vorkenntnisse\, kulturelle Hintergründe und fachliche Interessen? Sie möchten wissen\, wie Sie diese Vielseitigkeit fruchtbar in der Lehre aufgreifen können? \n\nIn der Lehre gibt es kein „One Size Fits All“. Stattdessen begegnen wir immer diversen Lerngruppen. In diesem Workshop erfahren Sie\, mit welchen Methoden und mit welchen digitalen Tools Sie das Potenzial dieser studentischen Vielfalt für Ihre Lehrgestaltung nutzen und so möglichst allen Lernenden ein gutes Lernangebot unterbreiten können. \n\nHierzu erkunden Sie in der ersten Online-Sitzung auf der Grundlage der Reflexion verschiedener Dimensionen der Diversität und Heterogenität in Ihrer Lehre verschiedene Methoden\, um Lerngruppen besser kennenzulernen\, vielseitige Perspektiven sichtbar zu machen und verschiedene individuelle Bedarfe der Studierenden in Ihrem Lernangebot aufzugreifen. Anschließend erproben Sie verschiedene digitale Umsetzungen dieser Methoden\, um sie dann auf die Gestaltung Ihrer eigenen Lehrveranstaltung zu übertragen. In einer Selbstlernphase führen Sie die Lehrplanung eigenständig fort und reflektieren Sie abschließend Ihre Umsetzungsideen durch eine multiperspektivische Feedback-Methode im zweiten Online-Meeting. \n\nInhaltliche Schwerpunkte\n\nDimensionen der Diversität\n\nDifferenzierung in der Lehre\n\nMethoden und digitale Tools zur Gestaltung differenzierter Lehrangebote\n\nLernziele\n\nDie Teilnehmenden sind nach dem Workshopbesuch in der Lage\, \n\ndas Potenzial der Vielseitigkeit in ihrer Lerngruppe zu identifizieren.\n\ndifferenzierte Lernangebote für die eigene Lehre zu entwickeln.\n\ngeeignete digitale Tools für die Umsetzung der Differenzierungsmethoden zu nutzen.\n\nDie Veranstaltung besteht aus zwei synchronen Online-Meetings (4 und 2 AE) sowie einer asynchronen Selbstlernphase (2 AE). \n\nMo. 17.04.2023: 13.00 bis 17.00 Uhr \n\nSelbstlernzeit: 2 Std. zwischen 17.04.2023 und 20.04.2023 \n\nDo. 20.04.2023: 14.00 bis 16.00 Uhr
URL:https://www.hessenhub.de/veranstaltung/methoden-und-digitale-tools-fuer-diversitaetsgerechtes-lehren/
CATEGORIES:Workshopbörse
END:VEVENT
END:VCALENDAR