BEGIN:VCALENDAR
VERSION:2.0
PRODID:-//HessenHub - Netzwerk digitale Hochschullehre Hessen - ECPv5.16.4//NONSGML v1.0//EN
CALSCALE:GREGORIAN
METHOD:PUBLISH
X-WR-CALNAME:HessenHub - Netzwerk digitale Hochschullehre Hessen
X-ORIGINAL-URL:https://www.hessenhub.de
X-WR-CALDESC:Events for HessenHub - Netzwerk digitale Hochschullehre Hessen
REFRESH-INTERVAL;VALUE=DURATION:PT1H
X-Robots-Tag:noindex
X-PUBLISHED-TTL:PT1H
BEGIN:VTIMEZONE
TZID:Europe/Berlin
BEGIN:DAYLIGHT
TZOFFSETFROM:+0100
TZOFFSETTO:+0200
TZNAME:CEST
DTSTART:20230326T010000
END:DAYLIGHT
BEGIN:STANDARD
TZOFFSETFROM:+0200
TZOFFSETTO:+0100
TZNAME:CET
DTSTART:20231029T010000
END:STANDARD
END:VTIMEZONE
BEGIN:VEVENT
DTSTART;TZID=Europe/Berlin:20230215T100000
DTEND;TZID=Europe/Berlin:20230215T120000
DTSTAMP:20260423T134407
CREATED:20221209T145037Z
LAST-MODIFIED:20221209T145037Z
UID:12809-1676455200-1676462400@www.hessenhub.de
SUMMARY:Archivierung und Publikation von Forschungsdaten
DESCRIPTION:Referent*innen\n\nJudith Dähne \n\nZielgruppe\n\nLehrende- und Studierende \n\nInhalt\n\nEine Zeitschriftenpublikation ist häufig das Ziel einer Forschungsarbeit\, aber auch die Daten selbst können und sollten veröffentlich werden. Wie das geht\, welche Veröffentlichungsmöglichkeiten es gibt und was ist dabei zu beachten ist\, wollen wir im letzten Basismodul der Veranstaltungsreihe behandeln. Möglichst praxisnahe Erkenntnisse bekommen Sie durch die exemplarische Vorstellung einzelner Datenrepositorien für quantitative und qualitative Daten sowie die testweise Publikation von Daten in einem Repositorium. Auch die Archivierung von Forschungsdaten gehört zur Guten wissenschaftlichen Praxis. Im Einzelnen geht es um die Fragen: Was verstehen wir unter Archivierung in Abgrenzung zu Speicherung und Langzeitarchivierung? Wo kann diese erfolgen?
URL:https://www.hessenhub.de/veranstaltung/archivierung-und-publikation-von-forschungsdaten/
CATEGORIES:Workshopbörse
END:VEVENT
END:VCALENDAR