BEGIN:VCALENDAR
VERSION:2.0
PRODID:-//HessenHub - Netzwerk digitale Hochschullehre Hessen - ECPv5.16.4//NONSGML v1.0//EN
CALSCALE:GREGORIAN
METHOD:PUBLISH
X-WR-CALNAME:HessenHub - Netzwerk digitale Hochschullehre Hessen
X-ORIGINAL-URL:https://www.hessenhub.de
X-WR-CALDESC:Events for HessenHub - Netzwerk digitale Hochschullehre Hessen
REFRESH-INTERVAL;VALUE=DURATION:PT1H
X-Robots-Tag:noindex
X-PUBLISHED-TTL:PT1H
BEGIN:VTIMEZONE
TZID:Europe/Berlin
BEGIN:DAYLIGHT
TZOFFSETFROM:+0100
TZOFFSETTO:+0200
TZNAME:CEST
DTSTART:20230326T010000
END:DAYLIGHT
BEGIN:STANDARD
TZOFFSETFROM:+0200
TZOFFSETTO:+0100
TZNAME:CET
DTSTART:20231029T010000
END:STANDARD
END:VTIMEZONE
BEGIN:VEVENT
DTSTART;TZID=Europe/Berlin:20230203T140000
DTEND;TZID=Europe/Berlin:20230203T160000
DTSTAMP:20260423T134408
CREATED:20230112T142336Z
LAST-MODIFIED:20230112T142337Z
UID:13091-1675432800-1675440000@www.hessenhub.de
SUMMARY:VITALS | Part III: ePortfolios\, (intercultural) reflexivity and assessment in virtual (international) learning courses
DESCRIPTION:Referent*innen\n\nDr. phil. Annika Brück-Hübner \n\nZielgruppe\n\nLehrende \n\nInhalt\n\nVITALS: A didactical and methodical introduction in Virtual International Teaching in Higher Education for lecturers and scholars of Social Sciences and Cultural Studies! \n\nThe internationalization of courses at universities is increasingly in demand. Through (virtual) international seminars\, lecturers as well as students can expand their intercultural but also professional competencies\, build international networks and jointly design innovative teaching. In comparison to physical mobility\, digital internationalization is considerably less expensive. Moreover\, it is more inclusive\, flexible and sustainable\, while promoting digital competencies of participants. However\, these innovative teaching formats also entail numerous challenges such as technical and organizational requirements\, special didactical and methodological demands\, as well as performance assessment and certification issues. This cycle of workshops addresses different possibilities for the internationalization of virtual courses\, their potential and associated challenges. It will also present and test (partially) didactical and methodological approaches. The aim of the workshops is threefold. Firstly\, they give participants insights into various possibilities of internationalizing courses. Secondly\, they support attendees with theoretical background knowledge as well as didactical and methodological input. Finally\, they offer practical suggestions for the virtual internationalization of their own courses. \n\nTOPIC \n\nPerformance assessment in virtual international seminars is often a challenge for two reasons: on the one hand\, accreditation and recognition of performance must be ensured for all students\, regardless of their home university. On the other hand\, the focus of virtual international seminars is usually not only on pure knowledge transfer and thus measurable learning outcomes\, but also includes more complex learning objectives such as intercultural cooperation and intercultural reflexivity. If the journey is seen as the destination\, the whole teaching and learning process requires the inclusion of formative ways of performance measurement and assessment. The ePortfolio is an instrument that can document formative as well as summative learning processes and make them the subject of performance assessment\, and at the same time support processes of (intercultural) exchange and reflection. This workshop will provide a didactical introduction to the use of ePortfolios as a reflection and performance assessment tool in virtual international seminars.This event is held in English. \n\nIt should be noted that this event only serves to supplement the HDM certificate and can therefore be credited to a limited extent. Please feel free to contact us for more information. \n\nLEARNING OBJECTIVES \n\nParticipants will be able to:• be aware of the special challenges associated with performance assessment in virtual international seminars.• know what ePortfolios are and get familiar with different possibilities to integrate them into virtual international teaching seminars.• get acquainted with different criteria for assessing the effectiveness of ePortfolios.
URL:https://www.hessenhub.de/veranstaltung/vitals-part-iii-eportfolios-intercultural-reflexivity-and-assessment-in-virtual-international-learning-courses/
CATEGORIES:Workshopbörse
END:VEVENT
END:VCALENDAR