BEGIN:VCALENDAR
VERSION:2.0
PRODID:-//HessenHub - Netzwerk digitale Hochschullehre Hessen - ECPv5.16.4//NONSGML v1.0//EN
CALSCALE:GREGORIAN
METHOD:PUBLISH
X-WR-CALNAME:HessenHub - Netzwerk digitale Hochschullehre Hessen
X-ORIGINAL-URL:https://www.hessenhub.de
X-WR-CALDESC:Events for HessenHub - Netzwerk digitale Hochschullehre Hessen
REFRESH-INTERVAL;VALUE=DURATION:PT1H
X-Robots-Tag:noindex
X-PUBLISHED-TTL:PT1H
BEGIN:VTIMEZONE
TZID:Europe/Berlin
BEGIN:DAYLIGHT
TZOFFSETFROM:+0100
TZOFFSETTO:+0200
TZNAME:CEST
DTSTART:20230326T010000
END:DAYLIGHT
BEGIN:STANDARD
TZOFFSETFROM:+0200
TZOFFSETTO:+0100
TZNAME:CET
DTSTART:20231029T010000
END:STANDARD
END:VTIMEZONE
BEGIN:VEVENT
DTSTART;TZID=Europe/Berlin:20230127T140000
DTEND;TZID=Europe/Berlin:20230127T160000
DTSTAMP:20260423T145653
CREATED:20230112T142011Z
LAST-MODIFIED:20230112T142011Z
UID:13086-1674828000-1674835200@www.hessenhub.de
SUMMARY:VITALS | Part II: Communication and feedback in virtual (international) learning courses
DESCRIPTION:Referent*innen\n\nDr. phil. Annika Brück-Hübner \n\nZielgruppe\n\nLehrende \n\nInhalt\n\nVITALS: A didactical and methodical introduction in Virtual International Teaching in Higher Education for lecturers and scholars of Social Sciences and Cultural Studies! \n\nThe internationalization of courses at universities is increasingly in demand. Through (virtual) international seminars\, lecturers as well as students can expand their intercultural but also professional competencies\, build international networks and jointly design innovative teaching. In comparison to physical mobility\, digital internationalization is considerably less expensive. Moreover\, it is more inclusive\, flexible and sustainable\, while promoting digital competencies of participants. However\, these innovative teaching formats also entail numerous challenges such as technical and organizational requirements\, special didactical and methodological demands\, as well as performance assessment and certification issues. This cycle of workshops addresses different possibilities for the internationalization of virtual courses\, their potential and associated challenges. It will also present and test (partially) didactical and methodological approaches. The aim of the workshops is threefold. Firstly\, they give participants insights into various possibilities of internationalizing courses. Secondly\, they support attendees with theoretical background knowledge as well as didactical and methodological input. Finally\, they offer practical suggestions for the virtual internationalization of their own courses. \n\nTOPICTeaching and learning processes are based on multiple forms of interaction and commu­nica­tion. Compared to traditional face-to-face events\, two central changes accompany communication in virtual international seminars. On the one hand\, it is digitized\, whereby new phenomena (such as channel reduction\, „lurking“ or „socially-reduced cues“) gain importance. On the other hand\, communication requires the consideration of intercultural differences and specificities. \n\nBased on different communication theories and experiences\, this workshop presents challenges resulting from the above changes. Participants are invited to discuss different (didactical and methodological) approaches to support virtual international communication and understanding processes. In particular\, this workshop highlights (reciprocal) feedback processes as a key element for successful virtual international teaching and learning\, as well as criteria for good digital feedback. \n\nThis event is held in English. \n\nIt should be noted that this event only serves to supplement the HDM certificate and can therefore be credited to a limited extent. Please feel free to contact us for more information. \n\nLEARNING OBJECTIVES \n\nParticipants will be able to:• be aware of the particular challenges of virtual international communication and interaction and the problems that often arise.• know didactical and methodic approaches that can be used to address the particular;• communication and comprehension problems in the context of virtual international courses;• understand the importance of feedback as a central component for virtual international teaching and know criteria for good digital feedback.
URL:https://www.hessenhub.de/veranstaltung/vitals-part-ii-communication-and-feedback-in-virtual-international-learning-courses/
CATEGORIES:Workshopbörse
END:VEVENT
END:VCALENDAR