BEGIN:VCALENDAR
VERSION:2.0
PRODID:-//HessenHub - Netzwerk digitale Hochschullehre Hessen - ECPv5.16.4//NONSGML v1.0//EN
CALSCALE:GREGORIAN
METHOD:PUBLISH
X-ORIGINAL-URL:https://www.hessenhub.de
X-WR-CALDESC:Events for HessenHub - Netzwerk digitale Hochschullehre Hessen
REFRESH-INTERVAL;VALUE=DURATION:PT1H
X-Robots-Tag:noindex
X-PUBLISHED-TTL:PT1H
BEGIN:VTIMEZONE
TZID:Europe/Berlin
BEGIN:DAYLIGHT
TZOFFSETFROM:+0100
TZOFFSETTO:+0200
TZNAME:CEST
DTSTART:20220327T010000
END:DAYLIGHT
BEGIN:STANDARD
TZOFFSETFROM:+0200
TZOFFSETTO:+0100
TZNAME:CET
DTSTART:20221030T010000
END:STANDARD
END:VTIMEZONE
BEGIN:VEVENT
DTSTART;TZID=Europe/Berlin:20221214T100000
DTEND;TZID=Europe/Berlin:20221214T120000
DTSTAMP:20260423T162738
CREATED:20221209T145637Z
LAST-MODIFIED:20221209T145637Z
UID:12817-1671012000-1671019200@www.hessenhub.de
SUMMARY:Rechtliche Fragen im Forschungsdatenmanagement
DESCRIPTION:Referent*innen\n\nPatrick Langner \n\nZielgruppe\n\nLehrende- und Studierende \n\nInhalt\n\nDer Umgang mit digitalen Forschungsdaten wird häufig von rechtlichen Fragestellungen berührt. Wie kann ich rechtssicher persönliche Angaben verarbeiten? Fallen Forschungsdaten unter das Urheberrecht? Wer entscheidet über eine Veröffentlichung von Daten? Was passiert bei einem Institutionswechsel mit den Forschungsdaten? Vor allem bei urheber-\, datenschutz-\, dienst- und haftungsrechtlichen Fragen im Rahmen der Verarbeitung\, des Teilens und der Veröffentlichung von Forschungsdaten herrschen im wissenschaftlichen Alltag viele Unsicherheiten. Während des Workshops werden wir diese anhand von Präsentationen\, praktischen Elementen und Diskussionsrunden adressieren und\, wenn möglich\, ausräumen.
URL:https://www.hessenhub.de/veranstaltung/rechtliche-fragen-im-forschungsdatenmanagement/
CATEGORIES:Workshopbörse
END:VEVENT
BEGIN:VEVENT
DTSTART;TZID=Europe/Berlin:20221214T133000
DTEND;TZID=Europe/Berlin:20221214T133000
DTSTAMP:20260423T162738
CREATED:20221209T144134Z
LAST-MODIFIED:20221209T144134Z
UID:12802-1671024600-1671024600@www.hessenhub.de
SUMMARY:ScienceWednesday: E-Learning mit und in Bibliotheken – ausgewählte Möglichkeiten und Szenarios
DESCRIPTION:Referent*innen\n\nProf. Dr. Berthold Meier \n\nZielgruppe\n\nLehrende \n\nInhalt\n\nDurch die in allen Lebensbereichen fortschreitende Digitalisierung ist es – nicht zuletzt bedingt durch die gesammelten Erfahrungen während der Corona-Pandemie – zu einem Wandel von Lehr-/Lernkontexten gekommen. In diesem Bereich haben mittlerweile auch Bibliotheken die Zeichen der Zeit erkannt und eigene\, innovative digitale Schulungsangebote entwickelt\, um ihren Kund*innen möglichst individuelle Lernwege anbieten zu können. In diesem Beitrag werden wir einen kurzen Blick auf den Begriff „E-Learning“ und das Konzept des sog. „Bedürfnisorientierten Lern-Designs (BoLD)“ werfen und uns ausgewählte digitale Schulungsformate aus den Bibliotheken des deutschsprachigen Raums ansehen.
URL:https://www.hessenhub.de/veranstaltung/sciencewednesday-e-learning-mit-und-in-bibliotheken-ausgewaehlte-moeglichkeiten-und-szenarios/
CATEGORIES:Workshopbörse
END:VEVENT
END:VCALENDAR