BEGIN:VCALENDAR
VERSION:2.0
PRODID:-//HessenHub - Netzwerk digitale Hochschullehre Hessen - ECPv5.16.4//NONSGML v1.0//EN
CALSCALE:GREGORIAN
METHOD:PUBLISH
X-WR-CALNAME:HessenHub - Netzwerk digitale Hochschullehre Hessen
X-ORIGINAL-URL:https://www.hessenhub.de
X-WR-CALDESC:Events for HessenHub - Netzwerk digitale Hochschullehre Hessen
REFRESH-INTERVAL;VALUE=DURATION:PT1H
X-Robots-Tag:noindex
X-PUBLISHED-TTL:PT1H
BEGIN:VTIMEZONE
TZID:Europe/Berlin
BEGIN:DAYLIGHT
TZOFFSETFROM:+0100
TZOFFSETTO:+0200
TZNAME:CEST
DTSTART:20220327T010000
END:DAYLIGHT
BEGIN:STANDARD
TZOFFSETFROM:+0200
TZOFFSETTO:+0100
TZNAME:CET
DTSTART:20221030T010000
END:STANDARD
END:VTIMEZONE
BEGIN:VEVENT
DTSTART;TZID=Europe/Berlin:20221130T140000
DTEND;TZID=Europe/Berlin:20221130T160000
DTSTAMP:20260423T162441
CREATED:20221018T094004Z
LAST-MODIFIED:20221018T094004Z
UID:12370-1669816800-1669824000@www.hessenhub.de
SUMMARY:Games-Entwicklung mit Python - Einführung in die Engine Ren‘Py
DESCRIPTION:Referent*innen\n\nRobert Palm \n\nZielgruppe\n\nLehrende- und Studierende \n\nInhalt\n\nIn diesem Workshop bieten wir eine Einführung in die Entwicklung von Visual Novels mit Hilfe der Spiele-Engine Ren’Py. \n\nVisual Novels zählen wie Text-Adventures zur Interactive Fiction und sind vor allem in Japan beliebt. Im Gegensatz zum klassischen Text-Adventure sind sie meist durchgehend illustriert\, bieten aber ebenso die Möglichkeit\, durch Entscheidungen Einfluss auf die Handlung zu nehmen und unterschiedliche Enden zu erreichen. Im Umfeld der Hochschullehre können Visual Novels eingesetzt werden\, um Inhalte spielerisch zu vermitteln oder Erlerntes zu vertiefen und zu überprüfen. \n\nDer Workshop richtet sich an an Lehrende\, Studierende und generell alle\, die an Spieleentwicklung und Story-Telling interessiert sind. Für die Teilnahme sind keinerlei Vorkenntnisse erforderlich. \n\nDie Anmeldung findet über das Stud.IP der JLU statt. Falls Sie von einer externen Institution beitreten möchten\, melden Sie sich bitte per E-Mail bei uns.
URL:https://www.hessenhub.de/veranstaltung/games-entwicklung-mit-python-einfuehrung-in-die-engine-renpy/
CATEGORIES:Workshopbörse
END:VEVENT
END:VCALENDAR